BEGIN:VCALENDAR
PRODID:-//Webinar Portal//Southern Regional Extension Forestry, University of Georgia//EN
VERSION:2.0
CALSCALE:GREGORIAN
METHOD:PUBLISH
BEGIN:VEVENT
DTSTAMP;TZID=American/New_York:20260417T215721Z
CREATED;TZID=American/New_York:20260119T143845Z
LAST-MODIFIED;TZID=American/New_York:20260306T131823Z
UID:Webinar-689494cbdb9ebbc4416b5e4282b66cc9
SUMMARY:Livestock 101: Aquaculture
LOCATION:https://climatewebinars.net/webinars/livestock-101-aquaculture-1
DTSTART;TZID=American/New_York:20260521T130000
DTEND;TZID=American/New_York:20260521T143000
URL:https://climatewebinars.net/webinars/livestock-101-aquaculture-1
DESCRIPTION:Webinar Date/Time: May 21, 2026 1:00 - 2:30 PM US/Eastern Time  |  Aquaculture basics presented by field-based, farmer-serving university and producer-organization partners for NRCS staff to better support aquaculture producers. This session will covers aquatic animal nutrition and health, hatchery and farm management, water quality control, and system design.
CLASS:PUBLIC
END:VEVENT
END:VCALENDAR
